BEGIN:VCALENDAR
VERSION:2.0
PRODID:-//St John - Norrona Lutheran Parish - ECPv6.15.20//NONSGML v1.0//EN
CALSCALE:GREGORIAN
METHOD:PUBLISH
X-WR-CALNAME:St John - Norrona Lutheran Parish
X-ORIGINAL-URL:http://stjohnnorrona.com
X-WR-CALDESC:Events for St John - Norrona Lutheran Parish
REFRESH-INTERVAL;VALUE=DURATION:PT1H
X-Robots-Tag:noindex
X-PUBLISHED-TTL:PT1H
BEGIN:VTIMEZONE
TZID:America/Regina
BEGIN:STANDARD
TZOFFSETFROM:-0600
TZOFFSETTO:-0600
TZNAME:CST
DTSTART:20240101T000000
END:STANDARD
END:VTIMEZONE
BEGIN:VEVENT
DTSTART;TZID=America/Regina:20250701T200000
DTEND;TZID=America/Regina:20250701T210000
DTSTAMP:20260420T040115
CREATED:20250524T164127Z
LAST-MODIFIED:20250524T164127Z
UID:4375-1751400000-1751403600@stjohnnorrona.com
SUMMARY:Al-Anon Meeting
DESCRIPTION:Al-Anon Meeting at St John Lutheran Church at 8:00 PM for family and friends of Alcoholics.
URL:http://stjohnnorrona.com/event/al-anon-meeting-26/
LOCATION:St John Lutheran Church\, 319 Mountain Street\, Strasbourg\, Saskatchewan\, S0G 4V0\, Canada
CATEGORIES:Al-Anon
ATTACH;FMTTYPE=image/png:http://stjohnnorrona.com/wp-content/uploads/2025/02/Al-Anon.png
END:VEVENT
BEGIN:VEVENT
DTSTART;TZID=America/Regina:20250708T200000
DTEND;TZID=America/Regina:20250708T210000
DTSTAMP:20260420T040115
CREATED:20250628T212937Z
LAST-MODIFIED:20250628T212937Z
UID:4464-1752004800-1752008400@stjohnnorrona.com
SUMMARY:Al-Anon Meeting
DESCRIPTION:Al-Anon Meeting at St John Lutheran Church at 8:00 PM for family and friends of Alcoholics.
URL:http://stjohnnorrona.com/event/al-anon-meeting-27/
LOCATION:St John Lutheran Church\, 319 Mountain Street\, Strasbourg\, Saskatchewan\, S0G 4V0\, Canada
CATEGORIES:Al-Anon
ATTACH;FMTTYPE=image/png:http://stjohnnorrona.com/wp-content/uploads/2025/02/Al-Anon.png
END:VEVENT
BEGIN:VEVENT
DTSTART;TZID=America/Regina:20250715T200000
DTEND;TZID=America/Regina:20250715T210000
DTSTAMP:20260420T040115
CREATED:20250628T213258Z
LAST-MODIFIED:20250628T213258Z
UID:4466-1752609600-1752613200@stjohnnorrona.com
SUMMARY:Al-Anon Meeting
DESCRIPTION:Al-Anon Meeting at St John Lutheran Church at 8:00 PM for family and friends of Alcoholics.
URL:http://stjohnnorrona.com/event/al-anon-meeting-28/
LOCATION:St John Lutheran Church\, 319 Mountain Street\, Strasbourg\, Saskatchewan\, S0G 4V0\, Canada
CATEGORIES:Al-Anon
ATTACH;FMTTYPE=image/png:http://stjohnnorrona.com/wp-content/uploads/2025/02/Al-Anon.png
END:VEVENT
BEGIN:VEVENT
DTSTART;TZID=America/Regina:20250722T200000
DTEND;TZID=America/Regina:20250722T210000
DTSTAMP:20260420T040115
CREATED:20250628T213432Z
LAST-MODIFIED:20250628T213432Z
UID:4468-1753214400-1753218000@stjohnnorrona.com
SUMMARY:Al-Anon Meeting
DESCRIPTION:Al-Anon Meeting at St John Lutheran Church at 8:00 PM for family and friends of Alcoholics.
URL:http://stjohnnorrona.com/event/al-anon-meeting-29/
LOCATION:St John Lutheran Church\, 319 Mountain Street\, Strasbourg\, Saskatchewan\, S0G 4V0\, Canada
CATEGORIES:Al-Anon
ATTACH;FMTTYPE=image/png:http://stjohnnorrona.com/wp-content/uploads/2025/02/Al-Anon.png
END:VEVENT
BEGIN:VEVENT
DTSTART;TZID=America/Regina:20250729T200000
DTEND;TZID=America/Regina:20250729T210000
DTSTAMP:20260420T040115
CREATED:20250628T213614Z
LAST-MODIFIED:20250628T213614Z
UID:4470-1753819200-1753822800@stjohnnorrona.com
SUMMARY:Al-Anon Meeting
DESCRIPTION:Al-Anon Meeting at St John Lutheran Church at 8:00 PM for family and friends of Alcoholics.
URL:http://stjohnnorrona.com/event/al-anon-meeting-30/
LOCATION:St John Lutheran Church\, 319 Mountain Street\, Strasbourg\, Saskatchewan\, S0G 4V0\, Canada
CATEGORIES:Al-Anon
ATTACH;FMTTYPE=image/png:http://stjohnnorrona.com/wp-content/uploads/2025/02/Al-Anon.png
END:VEVENT
END:VCALENDAR