BEGIN:VCALENDAR
VERSION:2.0
PRODID:-//St John - Norrona Lutheran Parish - ECPv6.15.20//NONSGML v1.0//EN
CALSCALE:GREGORIAN
METHOD:PUBLISH
X-ORIGINAL-URL:http://stjohnnorrona.com
X-WR-CALDESC:Events for St John - Norrona Lutheran Parish
REFRESH-INTERVAL;VALUE=DURATION:PT1H
X-Robots-Tag:noindex
X-PUBLISHED-TTL:PT1H
BEGIN:VTIMEZONE
TZID:America/Regina
BEGIN:STANDARD
TZOFFSETFROM:-0600
TZOFFSETTO:-0600
TZNAME:CST
DTSTART:20250101T000000
END:STANDARD
END:VTIMEZONE
BEGIN:VEVENT
DTSTART;TZID=America/Regina:20260501T130000
DTEND;TZID=America/Regina:20260501T150000
DTSTAMP:20260423T104702
CREATED:20260420T215124Z
LAST-MODIFIED:20260420T215124Z
UID:5433-1777640400-1777647600@stjohnnorrona.com
SUMMARY:Funeral Service for Vera Houston
DESCRIPTION:Funeral Service for Vera Houston at 1:00 p.m. at St. John Lutheran Church.
URL:http://stjohnnorrona.com/event/funeral-service-for-vera-houston/
LOCATION:St John Lutheran Church\, 319 Mountain Street\, Strasbourg\, Saskatchewan\, S0G 4V0\, Canada
CATEGORIES:Funeral Service
ATTACH;FMTTYPE=image/jpeg:http://stjohnnorrona.com/wp-content/uploads/2025/05/Graveside-Service.jpg
END:VEVENT
END:VCALENDAR