BEGIN:VCALENDAR
VERSION:2.0
PRODID:-//St John - Norrona Lutheran Parish - ECPv6.15.20//NONSGML v1.0//EN
CALSCALE:GREGORIAN
METHOD:PUBLISH
X-WR-CALNAME:St John - Norrona Lutheran Parish
X-ORIGINAL-URL:http://stjohnnorrona.com
X-WR-CALDESC:Events for St John - Norrona Lutheran Parish
REFRESH-INTERVAL;VALUE=DURATION:PT1H
X-Robots-Tag:noindex
X-PUBLISHED-TTL:PT1H
BEGIN:VTIMEZONE
TZID:America/Regina
BEGIN:STANDARD
TZOFFSETFROM:-0600
TZOFFSETTO:-0600
TZNAME:CST
DTSTART:20240101T000000
END:STANDARD
END:VTIMEZONE
BEGIN:VEVENT
DTSTART;TZID=America/Regina:20250425T140000
DTEND;TZID=America/Regina:20250425T150000
DTSTAMP:20260420T113256
CREATED:20250326T183125Z
LAST-MODIFIED:20250408T230641Z
UID:4181-1745589600-1745593200@stjohnnorrona.com
SUMMARY:Rogation Service
DESCRIPTION:Please join us for the Rogation Service at the Strasbourg Lion’s Park at 2:00 PM. \nPlease bring a lawn chair. \nEveryone is Welcome!!
URL:http://stjohnnorrona.com/event/rogation-service/
LOCATION:Strasbourg Lions Park\, 427 Edwards Street\, Strasbourg\, Saskatchewan\, S0G 4V0\, Canada
CATEGORIES:Rogation Service
ATTACH;FMTTYPE=image/jpeg:http://stjohnnorrona.com/wp-content/uploads/2025/03/Rogation-Service-e1743013870580.jpg
END:VEVENT
END:VCALENDAR