BEGIN:VCALENDAR
VERSION:2.0
PRODID:-//St John - Norrona Lutheran Parish - ECPv6.15.20//NONSGML v1.0//EN
CALSCALE:GREGORIAN
METHOD:PUBLISH
X-ORIGINAL-URL:http://stjohnnorrona.com
X-WR-CALDESC:Events for St John - Norrona Lutheran Parish
REFRESH-INTERVAL;VALUE=DURATION:PT1H
X-Robots-Tag:noindex
X-PUBLISHED-TTL:PT1H
BEGIN:VTIMEZONE
TZID:America/Regina
BEGIN:STANDARD
TZOFFSETFROM:-0600
TZOFFSETTO:-0600
TZNAME:CST
DTSTART:20240101T000000
END:STANDARD
END:VTIMEZONE
BEGIN:VEVENT
DTSTART;TZID=America/Regina:20250108T130000
DTEND;TZID=America/Regina:20250108T150000
DTSTAMP:20260419T194419
CREATED:20250221T183531Z
LAST-MODIFIED:20250221T184401Z
UID:3821-1736341200-1736348400@stjohnnorrona.com
SUMMARY:Shared Ministry Meeting
DESCRIPTION:Shared Ministry meeting at the Strasbourg Alliance Church @ 1:00 p.m.
URL:http://stjohnnorrona.com/event/shared-ministry-meeting/
LOCATION:Strasbourg Alliance Church\, 801 Prospect Ave\, Strasbourg\, Saskatchewan\, S0G 4V0\, Canada
CATEGORIES:Shared Ministry Meeting
ATTACH;FMTTYPE=image/jpeg:http://stjohnnorrona.com/wp-content/uploads/2025/02/Shared-Ministry.jpg
END:VEVENT
END:VCALENDAR