BEGIN:VCALENDAR
VERSION:2.0
PRODID:-//St John - Norrona Lutheran Parish - ECPv6.15.20//NONSGML v1.0//EN
CALSCALE:GREGORIAN
METHOD:PUBLISH
X-ORIGINAL-URL:http://stjohnnorrona.com
X-WR-CALDESC:Events for St John - Norrona Lutheran Parish
REFRESH-INTERVAL;VALUE=DURATION:PT1H
X-Robots-Tag:noindex
X-PUBLISHED-TTL:PT1H
BEGIN:VTIMEZONE
TZID:America/Regina
BEGIN:STANDARD
TZOFFSETFROM:-0600
TZOFFSETTO:-0600
TZNAME:CST
DTSTART:20240101T000000
END:STANDARD
END:VTIMEZONE
BEGIN:VEVENT
DTSTART;TZID=America/Regina:20250114T133000
DTEND;TZID=America/Regina:20250114T153000
DTSTAMP:20260419T195958
CREATED:20250221T190616Z
LAST-MODIFIED:20250221T191212Z
UID:3828-1736861400-1736868600@stjohnnorrona.com
SUMMARY:Worship & Parish Life Committee Meeting
DESCRIPTION:Worship & Parish Life Committee meeting at 1:30 P.M.
URL:http://stjohnnorrona.com/event/worship-parish-life-committee-meeting/
LOCATION:St John Lutheran Church\, 319 Mountain Street\, Strasbourg\, Saskatchewan\, S0G 4V0\, Canada
CATEGORIES:Worship & Parish Life Committee Meeting
ATTACH;FMTTYPE=image/png:http://stjohnnorrona.com/wp-content/uploads/2025/02/Worship-Parish-Life-Committee.png
END:VEVENT
END:VCALENDAR