BEGIN:VCALENDAR
VERSION:2.0
PRODID:-//St John - Norrona Lutheran Parish - ECPv6.15.20//NONSGML v1.0//EN
CALSCALE:GREGORIAN
METHOD:PUBLISH
X-ORIGINAL-URL:http://stjohnnorrona.com
X-WR-CALDESC:Events for St John - Norrona Lutheran Parish
REFRESH-INTERVAL;VALUE=DURATION:PT1H
X-Robots-Tag:noindex
X-PUBLISHED-TTL:PT1H
BEGIN:VTIMEZONE
TZID:America/Regina
BEGIN:STANDARD
TZOFFSETFROM:-0600
TZOFFSETTO:-0600
TZNAME:CST
DTSTART:20240101T000000
END:STANDARD
END:VTIMEZONE
BEGIN:VEVENT
DTSTART;TZID=America/Regina:20250622T093000
DTEND;TZID=America/Regina:20250622T103000
DTSTAMP:20260419T181322
CREATED:20250524T165737Z
LAST-MODIFIED:20250620T002552Z
UID:4383-1750584600-1750588200@stjohnnorrona.com
SUMMARY:Second Sunday After Pentecost Worship Service
DESCRIPTION:Please join us for the Second Sunday After Pentecost Worship Service at St. John Lutheran Church at 9:30 AM. \nThis is a Lay Service led by James Hoffman.
URL:http://stjohnnorrona.com/event/second-sunday-after-pentecost-worship-service/
LOCATION:St John Lutheran Church\, 319 Mountain Street\, Strasbourg\, Saskatchewan\, S0G 4V0\, Canada
CATEGORIES:Worship Service
ATTACH;FMTTYPE=image/jpeg:http://stjohnnorrona.com/wp-content/uploads/2025/02/Worship-Service.jpg
END:VEVENT
BEGIN:VEVENT
DTSTART;TZID=America/Regina:20250615T093000
DTEND;TZID=America/Regina:20250615T110000
DTSTAMP:20260419T181322
CREATED:20250524T165503Z
LAST-MODIFIED:20250612T141410Z
UID:4381-1749979800-1749985200@stjohnnorrona.com
SUMMARY:Holy Trinity Worship Service
DESCRIPTION:Please join us for the Holy Trinity Worship Service at St. John Lutheran Church at 9:30 AM. \nThis is a Communion Service led by Pastor Rick.
URL:http://stjohnnorrona.com/event/holy-trinity-worship-service/
LOCATION:St John Lutheran Church\, 319 Mountain Street\, Strasbourg\, Saskatchewan\, S0G 4V0\, Canada
CATEGORIES:Worship Service
ATTACH;FMTTYPE=image/jpeg:http://stjohnnorrona.com/wp-content/uploads/2025/02/Worship-Service.jpg
END:VEVENT
BEGIN:VEVENT
DTSTART;TZID=America/Regina:20250608T093000
DTEND;TZID=America/Regina:20250608T103000
DTSTAMP:20260419T181322
CREATED:20250524T165147Z
LAST-MODIFIED:20250603T234742Z
UID:4379-1749375000-1749378600@stjohnnorrona.com
SUMMARY:Day of Pentecost Worship Service
DESCRIPTION:Please join us for the Day of Pentecost Worship Service at St. John Lutheran Church at 9:30 AM. \nThis is a Lay Service led by Vicki Cornwell.
URL:http://stjohnnorrona.com/event/day-of-pentecost-worship-service/
LOCATION:St John Lutheran Church\, 319 Mountain Street\, Strasbourg\, Saskatchewan\, S0G 4V0\, Canada
CATEGORIES:Worship Service
ATTACH;FMTTYPE=image/jpeg:http://stjohnnorrona.com/wp-content/uploads/2025/02/Worship-Service.jpg
END:VEVENT
BEGIN:VEVENT
DTSTART;TZID=America/Regina:20250601T093000
DTEND;TZID=America/Regina:20250601T110000
DTSTAMP:20260419T181322
CREATED:20250524T164709Z
LAST-MODIFIED:20250530T175157Z
UID:4377-1748770200-1748775600@stjohnnorrona.com
SUMMARY:Seventh Sunday of Easter Worship Service
DESCRIPTION:Please join us for the Seventh Sunday of Easter Worship Service at St. John Lutheran Church at 9:30 AM. \nThis is a Communion Service led by Pastor Rick.
URL:http://stjohnnorrona.com/event/seventh-sunday-of-easter-worship-service/
LOCATION:St John Lutheran Church\, 319 Mountain Street\, Strasbourg\, Saskatchewan\, S0G 4V0\, Canada
CATEGORIES:Worship Service
ATTACH;FMTTYPE=image/jpeg:http://stjohnnorrona.com/wp-content/uploads/2025/02/Worship-Service.jpg
END:VEVENT
BEGIN:VEVENT
DTSTART;TZID=America/Regina:20250525T093000
DTEND;TZID=America/Regina:20250525T103000
DTSTAMP:20260419T181322
CREATED:20250426T144905Z
LAST-MODIFIED:20250522T163040Z
UID:4301-1748165400-1748169000@stjohnnorrona.com
SUMMARY:Sixth Sunday Of Easter Worship Service
DESCRIPTION:Please join us for the Sixth Sunday Of Easter Worship Service at St. John Lutheran Church. \nThis is a Lay Service led by Orva Kelln.
URL:http://stjohnnorrona.com/event/sixth-sunday-of-easter-worship-service/
LOCATION:St John Lutheran Church\, 319 Mountain Street\, Strasbourg\, Saskatchewan\, S0G 4V0\, Canada
CATEGORIES:Worship Service
ATTACH;FMTTYPE=image/jpeg:http://stjohnnorrona.com/wp-content/uploads/2025/02/Worship-Service.jpg
END:VEVENT
BEGIN:VEVENT
DTSTART;TZID=America/Regina:20250518T093000
DTEND;TZID=America/Regina:20250518T230000
DTSTAMP:20260419T181322
CREATED:20250426T144639Z
LAST-MODIFIED:20250512T220753Z
UID:4299-1747560600-1747609200@stjohnnorrona.com
SUMMARY:Fifth Sunday Of Easter Worship Service
DESCRIPTION:Please join us for the Fifth Sunday Of Easter Worship Service at St. John Lutheran Church. \nThis is a Communion Service led by Pastor Rick. \nIt is also Confirmation Sunday.
URL:http://stjohnnorrona.com/event/fifth-sunday-of-easter-worship-service/
LOCATION:St John Lutheran Church\, 319 Mountain Street\, Strasbourg\, Saskatchewan\, S0G 4V0\, Canada
CATEGORIES:Worship Service
ATTACH;FMTTYPE=image/jpeg:http://stjohnnorrona.com/wp-content/uploads/2025/02/Worship-Service.jpg
END:VEVENT
BEGIN:VEVENT
DTSTART;TZID=America/Regina:20250511T093000
DTEND;TZID=America/Regina:20250511T103000
DTSTAMP:20260419T181322
CREATED:20250426T144307Z
LAST-MODIFIED:20250506T222624Z
UID:4297-1746955800-1746959400@stjohnnorrona.com
SUMMARY:Fourth Sunday Of Easter Worship Service
DESCRIPTION:Please join us for the Fourth Sunday Of Easter Worship Service at St. John Lutheran Church. \nThis is a Lay Service led by Rev. Dr. Lois Knudson Munholland. \n\n 
URL:http://stjohnnorrona.com/event/fourth-sunday-of-easter-worship-service/
LOCATION:St John Lutheran Church\, 319 Mountain Street\, Strasbourg\, Saskatchewan\, S0G 4V0\, Canada
CATEGORIES:Worship Service
ATTACH;FMTTYPE=image/jpeg:http://stjohnnorrona.com/wp-content/uploads/2025/02/Worship-Service.jpg
END:VEVENT
BEGIN:VEVENT
DTSTART;TZID=America/Regina:20250507T103000
DTEND;TZID=America/Regina:20250507T110000
DTSTAMP:20260419T181322
CREATED:20250408T230950Z
LAST-MODIFIED:20250408T230950Z
UID:4248-1746613800-1746615600@stjohnnorrona.com
SUMMARY:Last Mountain Pioneer Home Worship Service
DESCRIPTION:Pastor Rick leading worship Service at the Last Mountain Pioneer Home at 10:30 AM.
URL:http://stjohnnorrona.com/event/last-mountain-pioneer-home-worship-service-4/
LOCATION:Last Mountain Pioneer Home\, 700 Prospect Avenue\, Strasbourg\, Saskatchewan\, S0G4V0\, Canada
CATEGORIES:Worship Service
ATTACH;FMTTYPE=image/jpeg:http://stjohnnorrona.com/wp-content/uploads/2025/02/Last-Mtn-Pioneer-Home-Image.jpeg
END:VEVENT
BEGIN:VEVENT
DTSTART;TZID=America/Regina:20250504T093000
DTEND;TZID=America/Regina:20250504T110000
DTSTAMP:20260419T181322
CREATED:20250426T143955Z
LAST-MODIFIED:20250430T145026Z
UID:4295-1746351000-1746356400@stjohnnorrona.com
SUMMARY:Third Sunday Of Easter Worship Service
DESCRIPTION:Please join us for the Third Sunday Of Easter Worship Service at St. John Lutheran Church. \nThis is a Communion Service led by Pastor Rick.
URL:http://stjohnnorrona.com/event/third-sunday-of-easter-worship-service/
LOCATION:St John Lutheran Church\, 319 Mountain Street\, Strasbourg\, Saskatchewan\, S0G 4V0\, Canada
CATEGORIES:Worship Service
ATTACH;FMTTYPE=image/jpeg:http://stjohnnorrona.com/wp-content/uploads/2025/02/Worship-Service.jpg
END:VEVENT
BEGIN:VEVENT
DTSTART;TZID=America/Regina:20250427T093000
DTEND;TZID=America/Regina:20250427T103000
DTSTAMP:20260419T181322
CREATED:20250326T183912Z
LAST-MODIFIED:20250422T184136Z
UID:4187-1745746200-1745749800@stjohnnorrona.com
SUMMARY:Second Sunday Of Easter Worship Service
DESCRIPTION:Please join us for the Second Sunday Of Easter Worship Service at St John Lutheran Church at 9:30 AM. \nThis is a lay service led by Bernie Josephson.
URL:http://stjohnnorrona.com/event/second-sunday-of-easter-worship-service/
LOCATION:St John Lutheran Church\, 319 Mountain Street\, Strasbourg\, Saskatchewan\, S0G 4V0\, Canada
CATEGORIES:Worship Service
ATTACH;FMTTYPE=image/jpeg:http://stjohnnorrona.com/wp-content/uploads/2025/02/Worship-Service.jpg
END:VEVENT
BEGIN:VEVENT
DTSTART;TZID=America/Regina:20250413T093000
DTEND;TZID=America/Regina:20250413T103000
DTSTAMP:20260419T181322
CREATED:20250326T180842Z
LAST-MODIFIED:20250408T232239Z
UID:4167-1744536600-1744540200@stjohnnorrona.com
SUMMARY:Palm Sunday Worship Service
DESCRIPTION:Please join us for the Palm Sunday Worship Service at St. John Lutheran Church at 9:30 AM. \nThis is a lay service led by James Hoffman.
URL:http://stjohnnorrona.com/event/palm-sunday-worship-service/
LOCATION:St John Lutheran Church\, 319 Mountain Street\, Strasbourg\, Saskatchewan\, S0G 4V0\, Canada
CATEGORIES:Worship Service
ATTACH;FMTTYPE=image/jpeg:http://stjohnnorrona.com/wp-content/uploads/2025/02/Worship-Service.jpg
END:VEVENT
BEGIN:VEVENT
DTSTART;TZID=America/Regina:20250406T093000
DTEND;TZID=America/Regina:20250406T110000
DTSTAMP:20260419T181322
CREATED:20250326T180435Z
LAST-MODIFIED:20250406T151602Z
UID:4165-1743931800-1743937200@stjohnnorrona.com
SUMMARY:Fifth Sunday In Lent Worship Service
DESCRIPTION:Please join us for the Fifth Sunday In Lent Worship Service at St. John Lutheran Church at 9:30 AM..\nThis is a Communion Service led by Pastor Rick.
URL:http://stjohnnorrona.com/event/fifth-sunday-in-lent-worship-service/
LOCATION:St John Lutheran Church\, 319 Mountain Street\, Strasbourg\, Saskatchewan\, S0G 4V0\, Canada
CATEGORIES:Worship Service
ATTACH;FMTTYPE=image/jpeg:http://stjohnnorrona.com/wp-content/uploads/2025/02/Worship-Service.jpg
END:VEVENT
BEGIN:VEVENT
DTSTART;TZID=America/Regina:20250330T100000
DTEND;TZID=America/Regina:20250330T110000
DTSTAMP:20260419T181322
CREATED:20250221T213034Z
LAST-MODIFIED:20250326T193653Z
UID:3859-1743328800-1743332400@stjohnnorrona.com
SUMMARY:Fourth Sunday In Lent Worship Service
DESCRIPTION:Please join us for the Fourth Sunday In Lent Worship Service at Norrona Lutheran Church at 10:00 AM. \nThis will be a Parish Service led by Brenda Small and Pastor Rick.
URL:http://stjohnnorrona.com/event/worship-service-2/
LOCATION:Norrona Lutheran Church\, Norrona\, Church Road\, Bulyea\, SK S0G 4V0\, Saskatchewan\, Canada
CATEGORIES:Worship Service
ATTACH;FMTTYPE=image/jpeg:http://stjohnnorrona.com/wp-content/uploads/2025/02/Worship-Service.jpg
END:VEVENT
BEGIN:VEVENT
DTSTART;TZID=America/Regina:20250323T093000
DTEND;TZID=America/Regina:20250323T103000
DTSTAMP:20260419T181322
CREATED:20250223T153523Z
LAST-MODIFIED:20250319T144707Z
UID:3939-1742722200-1742725800@stjohnnorrona.com
SUMMARY:Third Sunday In Lent Worship Service
DESCRIPTION:Please join us for the Third Sunday In Lent Worship Service at St. John Lutheran Church. \nThis is a Lay Service led by Jan Schulz.
URL:http://stjohnnorrona.com/event/third-sunday-in-lent-worship-service/
LOCATION:St John Lutheran Church\, 319 Mountain Street\, Strasbourg\, Saskatchewan\, S0G 4V0\, Canada
CATEGORIES:Worship Service
ATTACH;FMTTYPE=image/jpeg:http://stjohnnorrona.com/wp-content/uploads/2025/02/Worship-Service.jpg
END:VEVENT
BEGIN:VEVENT
DTSTART;TZID=America/Regina:20250316T093000
DTEND;TZID=America/Regina:20250316T110000
DTSTAMP:20260419T181322
CREATED:20250223T153139Z
LAST-MODIFIED:20250313T154301Z
UID:3936-1742117400-1742122800@stjohnnorrona.com
SUMMARY:Second Sunday In Lent Worship Service
DESCRIPTION:Please join us for the Second Sunday In Lent Worship Service at St. John Lutheran Church. \nThis is a Communion Service led by Pastor Rick.
URL:http://stjohnnorrona.com/event/second-sunday-in-lent-worship-service/
LOCATION:St John Lutheran Church\, 319 Mountain Street\, Strasbourg\, Saskatchewan\, S0G 4V0\, Canada
CATEGORIES:Worship Service
ATTACH;FMTTYPE=image/jpeg:http://stjohnnorrona.com/wp-content/uploads/2025/02/Worship-Service.jpg
END:VEVENT
BEGIN:VEVENT
DTSTART;TZID=America/Regina:20250312T103000
DTEND;TZID=America/Regina:20250312T110000
DTSTAMP:20260419T181322
CREATED:20250213T153441Z
LAST-MODIFIED:20250213T153441Z
UID:3667-1741775400-1741777200@stjohnnorrona.com
SUMMARY:Last Mountain Pioneer Home Worship Service
DESCRIPTION:Pastor Rick leading worship Service at the Last Mountain Pioneer Home.
URL:http://stjohnnorrona.com/event/last-mountain-pioneer-home-worship-service/
LOCATION:Last Mountain Pioneer Home\, 700 Prospect Avenue\, Strasbourg\, Saskatchewan\, S0G4V0\, Canada
CATEGORIES:Worship Service
ATTACH;FMTTYPE=image/jpeg:http://stjohnnorrona.com/wp-content/uploads/2025/02/Last-Mtn-Pioneer-Home-Image.jpeg
END:VEVENT
BEGIN:VEVENT
DTSTART;TZID=America/Regina:20250309T093000
DTEND;TZID=America/Regina:20250309T103000
DTSTAMP:20260419T181322
CREATED:20250223T152255Z
LAST-MODIFIED:20250304T181446Z
UID:3932-1741512600-1741516200@stjohnnorrona.com
SUMMARY:First Sunday In Lent Worship Service
DESCRIPTION:Please join us for the First Sunday In Lent Worship Service at St. John Lutheran Church. \nThis is a Lay Service led by Brenda Small.
URL:http://stjohnnorrona.com/event/first-sunday-in-lent-worship-service/
LOCATION:St John Lutheran Church\, 319 Mountain Street\, Strasbourg\, Saskatchewan\, S0G 4V0\, Canada
CATEGORIES:Worship Service
ATTACH;FMTTYPE=image/jpeg:http://stjohnnorrona.com/wp-content/uploads/2025/02/Worship-Service.jpg
END:VEVENT
BEGIN:VEVENT
DTSTART;TZID=America/Regina:20250302T093000
DTEND;TZID=America/Regina:20250302T110000
DTSTAMP:20260419T181322
CREATED:20250223T151647Z
LAST-MODIFIED:20250304T174323Z
UID:3930-1740907800-1740913200@stjohnnorrona.com
SUMMARY:Transfiguration Of Our Lord Worship Service
DESCRIPTION:Please join us for the Transfiguration Of Our Lord Worship Service \nThis is a Communion Service led by Pastor Rick. \nFollowing the service\, we will be having cake and coffee and celebrating Pastor Rick’s 65th birthday and also his first anniversary of being our Pastor. \nPlease join us for the Transfiguration Of Our Lord Worship Service at St. John Lutheran Church.
URL:http://stjohnnorrona.com/event/transfiguration-of-our-lord-worship-service/
LOCATION:St John Lutheran Church\, 319 Mountain Street\, Strasbourg\, Saskatchewan\, S0G 4V0\, Canada
CATEGORIES:Worship Service
ATTACH;FMTTYPE=image/jpeg:http://stjohnnorrona.com/wp-content/uploads/2025/02/Worship-Service.jpg
END:VEVENT
BEGIN:VEVENT
DTSTART;TZID=America/Regina:20250223T093000
DTEND;TZID=America/Regina:20250223T103000
DTSTAMP:20260419T181322
CREATED:20250208T190736Z
LAST-MODIFIED:20250221T161102Z
UID:3384-1740303000-1740306600@stjohnnorrona.com
SUMMARY:Seventh Sunday After Epiphany Worship Service
DESCRIPTION:Please join us for the Seventh Sunday After Epiphany Worship Service at St. John Lutheran Church. \nThis is a Lay Service led by Vicki Cornwell.
URL:http://stjohnnorrona.com/event/seventh-sunday-after-epiphany-worship-service/
LOCATION:St John Lutheran Church\, 319 Mountain Street\, Strasbourg\, Saskatchewan\, S0G 4V0\, Canada
CATEGORIES:Worship Service
ATTACH;FMTTYPE=image/jpeg:http://stjohnnorrona.com/wp-content/uploads/2025/02/Worship-Service.jpg
END:VEVENT
BEGIN:VEVENT
DTSTART;TZID=America/Regina:20250216T093000
DTEND;TZID=America/Regina:20250216T110000
DTSTAMP:20260419T181322
CREATED:20250208T175041Z
LAST-MODIFIED:20250221T154138Z
UID:3371-1739698200-1739703600@stjohnnorrona.com
SUMMARY:Sixth Sunday After Epiphany Worship Service
DESCRIPTION:Please join us for the Sixth Sunday After Epiphany Worship Service at St. John Lutheran Church. \nThis is a Communion Service led by Pastor Rick.
URL:http://stjohnnorrona.com/event/sixth-sunday-after-epiphany-worship-service/
LOCATION:St John Lutheran Church\, 319 Mountain Street\, Strasbourg\, Saskatchewan\, S0G 4V0\, Canada
CATEGORIES:Worship Service
ATTACH;FMTTYPE=image/jpeg:http://stjohnnorrona.com/wp-content/uploads/2025/02/Worship-Service.jpg
END:VEVENT
BEGIN:VEVENT
DTSTART;TZID=America/Regina:20250209T093000
DTEND;TZID=America/Regina:20250209T103000
DTSTAMP:20260419T181322
CREATED:20250208T174802Z
LAST-MODIFIED:20250221T155619Z
UID:3367-1739093400-1739097000@stjohnnorrona.com
SUMMARY:Fifth Sunday After Epiphany Worship Service
DESCRIPTION:Please join us for the Fifth Sunday After Epiphany Worship Service at St. John Lutheran Church. \nThis is a Lay Service led by Orva Kelln. \n\n 
URL:http://stjohnnorrona.com/event/fifth-sunday-after-epiphany-worship-service/
LOCATION:St John Lutheran Church\, 319 Mountain Street\, Strasbourg\, Saskatchewan\, S0G 4V0\, Canada
CATEGORIES:Worship Service
ATTACH;FMTTYPE=image/jpeg:http://stjohnnorrona.com/wp-content/uploads/2025/02/Worship-Service.jpg
END:VEVENT
BEGIN:VEVENT
DTSTART;TZID=America/Regina:20250202T093000
DTEND;TZID=America/Regina:20250202T120000
DTSTAMP:20260419T181322
CREATED:20250208T163043Z
LAST-MODIFIED:20250221T162137Z
UID:3345-1738488600-1738497600@stjohnnorrona.com
SUMMARY:Fourth Sunday After Epiphany Worship Service
DESCRIPTION:Please join us for the Fourth Sunday After Epiphany Worship Service at St. John Lutheran Church. \nThis is a Communion Service led by Pastor Rick. \nFollowing the service\, there will be a potluck lunch and our annual Dessert Auction. \nProceeds from this year’s auction will be going to support the Emergency Relief efforts in Gaza through Canadian Lutheran World Relief.
URL:http://stjohnnorrona.com/event/fourth-sunday-after-epiphany-worship-service/
LOCATION:St John Lutheran Church\, 319 Mountain Street\, Strasbourg\, Saskatchewan\, S0G 4V0\, Canada
CATEGORIES:Worship Service
ATTACH;FMTTYPE=image/jpeg:http://stjohnnorrona.com/wp-content/uploads/2025/02/Dessert-Auction.jpg
END:VEVENT
BEGIN:VEVENT
DTSTART;TZID=America/Regina:20250126T093000
DTEND;TZID=America/Regina:20250126T103000
DTSTAMP:20260419T181322
CREATED:20250221T163640Z
LAST-MODIFIED:20250221T164143Z
UID:3797-1737883800-1737887400@stjohnnorrona.com
SUMMARY:The Third Sunday after Epiphany Worship Service
DESCRIPTION:Please join us for the Third Sunday after Epiphany Worship Service at St. John Lutheran Church. \nThis service will be led by Pastor Rick. \nThe St. John Annual Meeting will follow the service today.
URL:http://stjohnnorrona.com/event/the-third-sunday-after-epiphany-worship-service/
LOCATION:St John Lutheran Church\, 319 Mountain Street\, Strasbourg\, Saskatchewan\, S0G 4V0\, Canada
CATEGORIES:Worship Service
ATTACH;FMTTYPE=image/jpeg:http://stjohnnorrona.com/wp-content/uploads/2025/02/Worship-Service.jpg
END:VEVENT
BEGIN:VEVENT
DTSTART;TZID=America/Regina:20250119T093000
DTEND;TZID=America/Regina:20250119T110000
DTSTAMP:20260419T181322
CREATED:20250221T171457Z
LAST-MODIFIED:20250221T171457Z
UID:3803-1737279000-1737284400@stjohnnorrona.com
SUMMARY:The Second Sunday after Epiphany Worship Service
DESCRIPTION:Please join us for the Second Sunday after Epiphany Worship Service at St. John Lutheran Church. \nThis is a Communion Service led by Pastor Rick.
URL:http://stjohnnorrona.com/event/the-second-sunday-after-epiphany-worship-service/
LOCATION:St John Lutheran Church\, 319 Mountain Street\, Strasbourg\, Saskatchewan\, S0G 4V0\, Canada
CATEGORIES:Worship Service
ATTACH;FMTTYPE=image/jpeg:http://stjohnnorrona.com/wp-content/uploads/2025/02/Worship-Service.jpg
END:VEVENT
BEGIN:VEVENT
DTSTART;TZID=America/Regina:20250112T093000
DTEND;TZID=America/Regina:20250112T103000
DTSTAMP:20260419T181322
CREATED:20250221T172054Z
LAST-MODIFIED:20250221T172054Z
UID:3806-1736674200-1736677800@stjohnnorrona.com
SUMMARY:The Baptism of our Lord Worship Service
DESCRIPTION:Please join us for the Baptism of our Lord Worship Service at St. John Lutheran Church. \nThis is a Lay Service led by Brenda Small.
URL:http://stjohnnorrona.com/event/the-baptism-of-our-lord-worship-service/
LOCATION:St John Lutheran Church\, 319 Mountain Street\, Strasbourg\, Saskatchewan\, S0G 4V0\, Canada
CATEGORIES:Worship Service
ATTACH;FMTTYPE=image/jpeg:http://stjohnnorrona.com/wp-content/uploads/2025/02/Worship-Service.jpg
END:VEVENT
BEGIN:VEVENT
DTSTART;TZID=America/Regina:20250105T093000
DTEND;TZID=America/Regina:20250105T110000
DTSTAMP:20260419T181322
CREATED:20250219T173548Z
LAST-MODIFIED:20250219T232202Z
UID:3764-1736069400-1736074800@stjohnnorrona.com
SUMMARY:The Second Sunday of Christmas Worship Service
DESCRIPTION:Please join us for the Second Sunday of Christmas Worship Service at St. John Lutheran Church. \nThis is a Communion Service led by Pastor Rick.
URL:http://stjohnnorrona.com/event/the-second-sunday-of-christmas-worship-service/
LOCATION:St John Lutheran Church\, 319 Mountain Street\, Strasbourg\, Saskatchewan\, S0G 4V0\, Canada
CATEGORIES:Worship Service
ATTACH;FMTTYPE=image/jpeg:http://stjohnnorrona.com/wp-content/uploads/2025/02/Worship-Service.jpg
END:VEVENT
END:VCALENDAR