BEGIN:VCALENDAR
VERSION:2.0
PRODID:-//St John - Norrona Lutheran Parish - ECPv6.15.20//NONSGML v1.0//EN
CALSCALE:GREGORIAN
METHOD:PUBLISH
X-ORIGINAL-URL:http://stjohnnorrona.com
X-WR-CALDESC:Events for St John - Norrona Lutheran Parish
REFRESH-INTERVAL;VALUE=DURATION:PT1H
X-Robots-Tag:noindex
X-PUBLISHED-TTL:PT1H
BEGIN:VTIMEZONE
TZID:America/Regina
BEGIN:STANDARD
TZOFFSETFROM:-0600
TZOFFSETTO:-0600
TZNAME:CST
DTSTART:20240101T000000
END:STANDARD
END:VTIMEZONE
BEGIN:VEVENT
DTSTART;TZID=America/Regina:20250405T133000
DTEND;TZID=America/Regina:20250405T173000
DTSTAMP:20260420T223251
CREATED:20250319T150228Z
LAST-MODIFIED:20250319T150228Z
UID:4139-1743859800-1743874200@stjohnnorrona.com
SUMMARY:Confirmation Class
DESCRIPTION:Confirmation class at St. John at 1:30 PM
URL:http://stjohnnorrona.com/event/confirmation-class-3/
LOCATION:St John Lutheran Church\, 319 Mountain Street\, Strasbourg\, Saskatchewan\, S0G 4V0\, Canada
CATEGORIES:Confirmation Class
ATTACH;FMTTYPE=image/jpeg:http://stjohnnorrona.com/wp-content/uploads/2025/02/Confirmation-Class-e1739031123365.jpg
END:VEVENT
END:VCALENDAR