BEGIN:VCALENDAR
VERSION:2.0
PRODID:-//St John - Norrona Lutheran Parish - ECPv6.15.20//NONSGML v1.0//EN
CALSCALE:GREGORIAN
METHOD:PUBLISH
X-WR-CALNAME:St John - Norrona Lutheran Parish
X-ORIGINAL-URL:http://stjohnnorrona.com
X-WR-CALDESC:Events for St John - Norrona Lutheran Parish
REFRESH-INTERVAL;VALUE=DURATION:PT1H
X-Robots-Tag:noindex
X-PUBLISHED-TTL:PT1H
BEGIN:VTIMEZONE
TZID:America/Regina
BEGIN:STANDARD
TZOFFSETFROM:-0600
TZOFFSETTO:-0600
TZNAME:CST
DTSTART:20240101T000000
END:STANDARD
END:VTIMEZONE
BEGIN:VEVENT
DTSTART;TZID=America/Regina:20250417T190000
DTEND;TZID=America/Regina:20250417T203000
DTSTAMP:20260422T161237
CREATED:20250319T151255Z
LAST-MODIFIED:20250408T233807Z
UID:4144-1744916400-1744921800@stjohnnorrona.com
SUMMARY:Maundy Thursday Service
DESCRIPTION:Please join us for the Maundy Thursday Service at St John Lutheran Church at 7:00 PM. \nThis is a communion service led by Pastor Rick.
URL:http://stjohnnorrona.com/event/maundy-thursday-service/
LOCATION:St John Lutheran Church\, 319 Mountain Street\, Strasbourg\, Saskatchewan\, S0G 4V0\, Canada
CATEGORIES:Maundy Thursday Service
ATTACH;FMTTYPE=image/jpeg:http://stjohnnorrona.com/wp-content/uploads/2025/03/Maundy-Thursday-Service.jpg
END:VEVENT
END:VCALENDAR