BEGIN:VCALENDAR
VERSION:2.0
PRODID:-//St John - Norrona Lutheran Parish - ECPv6.15.20//NONSGML v1.0//EN
CALSCALE:GREGORIAN
METHOD:PUBLISH
X-ORIGINAL-URL:http://stjohnnorrona.com
X-WR-CALDESC:Events for St John - Norrona Lutheran Parish
REFRESH-INTERVAL;VALUE=DURATION:PT1H
X-Robots-Tag:noindex
X-PUBLISHED-TTL:PT1H
BEGIN:VTIMEZONE
TZID:America/Regina
BEGIN:STANDARD
TZOFFSETFROM:-0600
TZOFFSETTO:-0600
TZNAME:CST
DTSTART:20240101T000000
END:STANDARD
END:VTIMEZONE
BEGIN:VEVENT
DTSTART;TZID=America/Regina:20250202T093000
DTEND;TZID=America/Regina:20250202T120000
DTSTAMP:20260421T070701
CREATED:20250208T163043Z
LAST-MODIFIED:20250221T162137Z
UID:3345-1738488600-1738497600@stjohnnorrona.com
SUMMARY:Fourth Sunday After Epiphany Worship Service
DESCRIPTION:Please join us for the Fourth Sunday After Epiphany Worship Service at St. John Lutheran Church. \nThis is a Communion Service led by Pastor Rick. \nFollowing the service\, there will be a potluck lunch and our annual Dessert Auction. \nProceeds from this year’s auction will be going to support the Emergency Relief efforts in Gaza through Canadian Lutheran World Relief.
URL:http://stjohnnorrona.com/event/fourth-sunday-after-epiphany-worship-service/
LOCATION:St John Lutheran Church\, 319 Mountain Street\, Strasbourg\, Saskatchewan\, S0G 4V0\, Canada
CATEGORIES:Worship Service
ATTACH;FMTTYPE=image/jpeg:http://stjohnnorrona.com/wp-content/uploads/2025/02/Dessert-Auction.jpg
END:VEVENT
BEGIN:VEVENT
DTSTART;TZID=America/Regina:20250209T093000
DTEND;TZID=America/Regina:20250209T103000
DTSTAMP:20260421T070701
CREATED:20250208T174802Z
LAST-MODIFIED:20250221T155619Z
UID:3367-1739093400-1739097000@stjohnnorrona.com
SUMMARY:Fifth Sunday After Epiphany Worship Service
DESCRIPTION:Please join us for the Fifth Sunday After Epiphany Worship Service at St. John Lutheran Church. \nThis is a Lay Service led by Orva Kelln. \n\n 
URL:http://stjohnnorrona.com/event/fifth-sunday-after-epiphany-worship-service/
LOCATION:St John Lutheran Church\, 319 Mountain Street\, Strasbourg\, Saskatchewan\, S0G 4V0\, Canada
CATEGORIES:Worship Service
ATTACH;FMTTYPE=image/jpeg:http://stjohnnorrona.com/wp-content/uploads/2025/02/Worship-Service.jpg
END:VEVENT
BEGIN:VEVENT
DTSTART;TZID=America/Regina:20250212T103000
DTEND;TZID=America/Regina:20250212T110000
DTSTAMP:20260421T070701
CREATED:20250208T144555Z
LAST-MODIFIED:20250208T212812Z
UID:3319-1739356200-1739358000@stjohnnorrona.com
SUMMARY:Last Mountain Pioneer Home Worship Service
DESCRIPTION:Pastor Rick leading worship Service at the Last Mountain Pioneer Home.
URL:http://stjohnnorrona.com/event/worship-service/
LOCATION:Last Mountain Pioneer Home\, 700 Prospect Avenue\, Strasbourg\, Saskatchewan\, S0G4V0\, Canada
CATEGORIES:LMPH Worship Service
ATTACH;FMTTYPE=image/jpeg:http://stjohnnorrona.com/wp-content/uploads/2025/02/Last-Mtn-Pioneer-Home-Image.jpeg
END:VEVENT
BEGIN:VEVENT
DTSTART;TZID=America/Regina:20250216T093000
DTEND;TZID=America/Regina:20250216T110000
DTSTAMP:20260421T070701
CREATED:20250208T175041Z
LAST-MODIFIED:20250221T154138Z
UID:3371-1739698200-1739703600@stjohnnorrona.com
SUMMARY:Sixth Sunday After Epiphany Worship Service
DESCRIPTION:Please join us for the Sixth Sunday After Epiphany Worship Service at St. John Lutheran Church. \nThis is a Communion Service led by Pastor Rick.
URL:http://stjohnnorrona.com/event/sixth-sunday-after-epiphany-worship-service/
LOCATION:St John Lutheran Church\, 319 Mountain Street\, Strasbourg\, Saskatchewan\, S0G 4V0\, Canada
CATEGORIES:Worship Service
ATTACH;FMTTYPE=image/jpeg:http://stjohnnorrona.com/wp-content/uploads/2025/02/Worship-Service.jpg
END:VEVENT
BEGIN:VEVENT
DTSTART;TZID=America/Regina:20250223T093000
DTEND;TZID=America/Regina:20250223T103000
DTSTAMP:20260421T070701
CREATED:20250208T190736Z
LAST-MODIFIED:20250221T161102Z
UID:3384-1740303000-1740306600@stjohnnorrona.com
SUMMARY:Seventh Sunday After Epiphany Worship Service
DESCRIPTION:Please join us for the Seventh Sunday After Epiphany Worship Service at St. John Lutheran Church. \nThis is a Lay Service led by Vicki Cornwell.
URL:http://stjohnnorrona.com/event/seventh-sunday-after-epiphany-worship-service/
LOCATION:St John Lutheran Church\, 319 Mountain Street\, Strasbourg\, Saskatchewan\, S0G 4V0\, Canada
CATEGORIES:Worship Service
ATTACH;FMTTYPE=image/jpeg:http://stjohnnorrona.com/wp-content/uploads/2025/02/Worship-Service.jpg
END:VEVENT
END:VCALENDAR