BEGIN:VCALENDAR
VERSION:2.0
PRODID:-//St John - Norrona Lutheran Parish - ECPv6.15.20//NONSGML v1.0//EN
CALSCALE:GREGORIAN
METHOD:PUBLISH
X-ORIGINAL-URL:http://stjohnnorrona.com
X-WR-CALDESC:Events for St John - Norrona Lutheran Parish
REFRESH-INTERVAL;VALUE=DURATION:PT1H
X-Robots-Tag:noindex
X-PUBLISHED-TTL:PT1H
BEGIN:VTIMEZONE
TZID:America/Regina
BEGIN:STANDARD
TZOFFSETFROM:-0600
TZOFFSETTO:-0600
TZNAME:CST
DTSTART:20240101T000000
END:STANDARD
END:VTIMEZONE
BEGIN:VEVENT
DTSTART;TZID=America/Regina:20250614T140000
DTEND;TZID=America/Regina:20250614T150000
DTSTAMP:20260420T225544
CREATED:20250530T175507Z
LAST-MODIFIED:20250530T175507Z
UID:4404-1749909600-1749913200@stjohnnorrona.com
SUMMARY:Funeral service for Katherine Martin
DESCRIPTION:Funeral service for Katherine Martin at St. John Lutheran Church at 2:00 p.m.
URL:http://stjohnnorrona.com/event/funeral-service-for-katherine-martin/
LOCATION:St John Lutheran Church\, 319 Mountain Street\, Strasbourg\, Saskatchewan\, S0G 4V0\, Canada
CATEGORIES:Funeral Service
ATTACH;FMTTYPE=image/jpeg:http://stjohnnorrona.com/wp-content/uploads/2025/05/Graveside-Service.jpg
END:VEVENT
END:VCALENDAR