BEGIN:VCALENDAR
VERSION:2.0
PRODID:-//St John - Norrona Lutheran Parish - ECPv6.15.20//NONSGML v1.0//EN
CALSCALE:GREGORIAN
METHOD:PUBLISH
X-ORIGINAL-URL:http://stjohnnorrona.com
X-WR-CALDESC:Events for St John - Norrona Lutheran Parish
REFRESH-INTERVAL;VALUE=DURATION:PT1H
X-Robots-Tag:noindex
X-PUBLISHED-TTL:PT1H
BEGIN:VTIMEZONE
TZID:America/Regina
BEGIN:STANDARD
TZOFFSETFROM:-0600
TZOFFSETTO:-0600
TZNAME:CST
DTSTART:20240101T000000
END:STANDARD
END:VTIMEZONE
BEGIN:VEVENT
DTSTART;TZID=America/Regina:20250601T093000
DTEND;TZID=America/Regina:20250601T110000
DTSTAMP:20260420T151315
CREATED:20250524T164709Z
LAST-MODIFIED:20250530T175157Z
UID:4377-1748770200-1748775600@stjohnnorrona.com
SUMMARY:Seventh Sunday of Easter Worship Service
DESCRIPTION:Please join us for the Seventh Sunday of Easter Worship Service at St. John Lutheran Church at 9:30 AM. \nThis is a Communion Service led by Pastor Rick.
URL:http://stjohnnorrona.com/event/seventh-sunday-of-easter-worship-service/
LOCATION:St John Lutheran Church\, 319 Mountain Street\, Strasbourg\, Saskatchewan\, S0G 4V0\, Canada
CATEGORIES:Worship Service
ATTACH;FMTTYPE=image/jpeg:http://stjohnnorrona.com/wp-content/uploads/2025/02/Worship-Service.jpg
END:VEVENT
BEGIN:VEVENT
DTSTART;TZID=America/Regina:20250604T103000
DTEND;TZID=America/Regina:20250604T110000
DTSTAMP:20260420T151315
CREATED:20250506T222230Z
LAST-MODIFIED:20250506T222230Z
UID:4328-1749033000-1749034800@stjohnnorrona.com
SUMMARY:Last Mountain Pioneer Home Worship Service
DESCRIPTION:Pastor Rick leading worship Service at the Last Mountain Pioneer Home at 10:30 AM.
URL:http://stjohnnorrona.com/event/last-mountain-pioneer-home-worship-service-5/
LOCATION:Last Mountain Pioneer Home\, 700 Prospect Avenue\, Strasbourg\, Saskatchewan\, S0G4V0\, Canada
CATEGORIES:LMPH Worship Service
ATTACH;FMTTYPE=image/jpeg:http://stjohnnorrona.com/wp-content/uploads/2025/02/Last-Mtn-Pioneer-Home-Image.jpeg
END:VEVENT
BEGIN:VEVENT
DTSTART;TZID=America/Regina:20250608T093000
DTEND;TZID=America/Regina:20250608T103000
DTSTAMP:20260420T151315
CREATED:20250524T165147Z
LAST-MODIFIED:20250603T234742Z
UID:4379-1749375000-1749378600@stjohnnorrona.com
SUMMARY:Day of Pentecost Worship Service
DESCRIPTION:Please join us for the Day of Pentecost Worship Service at St. John Lutheran Church at 9:30 AM. \nThis is a Lay Service led by Vicki Cornwell.
URL:http://stjohnnorrona.com/event/day-of-pentecost-worship-service/
LOCATION:St John Lutheran Church\, 319 Mountain Street\, Strasbourg\, Saskatchewan\, S0G 4V0\, Canada
CATEGORIES:Worship Service
ATTACH;FMTTYPE=image/jpeg:http://stjohnnorrona.com/wp-content/uploads/2025/02/Worship-Service.jpg
END:VEVENT
BEGIN:VEVENT
DTSTART;TZID=America/Regina:20250615T093000
DTEND;TZID=America/Regina:20250615T110000
DTSTAMP:20260420T151315
CREATED:20250524T165503Z
LAST-MODIFIED:20250612T141410Z
UID:4381-1749979800-1749985200@stjohnnorrona.com
SUMMARY:Holy Trinity Worship Service
DESCRIPTION:Please join us for the Holy Trinity Worship Service at St. John Lutheran Church at 9:30 AM. \nThis is a Communion Service led by Pastor Rick.
URL:http://stjohnnorrona.com/event/holy-trinity-worship-service/
LOCATION:St John Lutheran Church\, 319 Mountain Street\, Strasbourg\, Saskatchewan\, S0G 4V0\, Canada
CATEGORIES:Worship Service
ATTACH;FMTTYPE=image/jpeg:http://stjohnnorrona.com/wp-content/uploads/2025/02/Worship-Service.jpg
END:VEVENT
BEGIN:VEVENT
DTSTART;TZID=America/Regina:20250622T093000
DTEND;TZID=America/Regina:20250622T103000
DTSTAMP:20260420T151315
CREATED:20250524T165737Z
LAST-MODIFIED:20250620T002552Z
UID:4383-1750584600-1750588200@stjohnnorrona.com
SUMMARY:Second Sunday After Pentecost Worship Service
DESCRIPTION:Please join us for the Second Sunday After Pentecost Worship Service at St. John Lutheran Church at 9:30 AM. \nThis is a Lay Service led by James Hoffman.
URL:http://stjohnnorrona.com/event/second-sunday-after-pentecost-worship-service/
LOCATION:St John Lutheran Church\, 319 Mountain Street\, Strasbourg\, Saskatchewan\, S0G 4V0\, Canada
CATEGORIES:Worship Service
ATTACH;FMTTYPE=image/jpeg:http://stjohnnorrona.com/wp-content/uploads/2025/02/Worship-Service.jpg
END:VEVENT
BEGIN:VEVENT
DTSTART;TZID=America/Regina:20250629T103000
DTEND;TZID=America/Regina:20250629T113000
DTSTAMP:20260420T151315
CREATED:20250522T164936Z
LAST-MODIFIED:20250522T165148Z
UID:4354-1751193000-1751196600@stjohnnorrona.com
SUMMARY:Annual Interfaith Worship Service
DESCRIPTION:Please join us at the Annual Interfaith Worship Service on Sunday June 29\, 2025 at the Strasbourg Memorial Hall at 10:30 AM. \n\n\n \nCollection going to the hall expenses and local food hampers. \n\n\n \nDonations greatfully received. \nLunch served by our local Foodgrains Bank Committee. \n\n\n \n 
URL:http://stjohnnorrona.com/event/annual-interfaith-worship-service/
LOCATION:Strasbourg Memorial Hall\, 113 Pearson Street\, Strasbourg\, Saskatchewan\, S0G 4V0\, Canada
CATEGORIES:Worship Service
ATTACH;FMTTYPE=image/jpeg:http://stjohnnorrona.com/wp-content/uploads/2025/05/Interfaith.jpg
END:VEVENT
END:VCALENDAR