BEGIN:VCALENDAR
VERSION:2.0
PRODID:-//St John - Norrona Lutheran Parish - ECPv6.15.20//NONSGML v1.0//EN
CALSCALE:GREGORIAN
METHOD:PUBLISH
X-WR-CALNAME:St John - Norrona Lutheran Parish
X-ORIGINAL-URL:http://stjohnnorrona.com
X-WR-CALDESC:Events for St John - Norrona Lutheran Parish
REFRESH-INTERVAL;VALUE=DURATION:PT1H
X-Robots-Tag:noindex
X-PUBLISHED-TTL:PT1H
BEGIN:VTIMEZONE
TZID:America/Regina
BEGIN:STANDARD
TZOFFSETFROM:-0600
TZOFFSETTO:-0600
TZNAME:CST
DTSTART:20240101T000000
END:STANDARD
END:VTIMEZONE
BEGIN:VEVENT
DTSTART;TZID=America/Regina:20250803T093000
DTEND;TZID=America/Regina:20250803T110000
DTSTAMP:20260419T093949
CREATED:20250628T224834Z
LAST-MODIFIED:20250728T193617Z
UID:4503-1754213400-1754218800@stjohnnorrona.com
SUMMARY:Eighth Sunday After Pentecost Worship Service
DESCRIPTION:Please join us for the Eighth Sunday After Pentecost Worship Service at St. John Lutheran Church at 9:30 AM. \nThis is a Communion Service led by Pastor Rick.
URL:http://stjohnnorrona.com/event/eighth-sunday-after-pentecost-worship-service/
LOCATION:St John Lutheran Church\, 319 Mountain Street\, Strasbourg\, Saskatchewan\, S0G 4V0\, Canada
CATEGORIES:Worship Service
ATTACH;FMTTYPE=image/jpeg:http://stjohnnorrona.com/wp-content/uploads/2025/02/Worship-Service.jpg
END:VEVENT
BEGIN:VEVENT
DTSTART;TZID=America/Regina:20250810T093000
DTEND;TZID=America/Regina:20250810T103000
DTSTAMP:20260419T093949
CREATED:20250628T225359Z
LAST-MODIFIED:20250808T152108Z
UID:4505-1754818200-1754821800@stjohnnorrona.com
SUMMARY:Nineth Sunday After Pentecost Worship Service
DESCRIPTION:Please join us for the Nineth Sunday After Pentecost Worship Service at St. John Lutheran Church at 9:30 AM. \nThis is a Lay Service led by Marvin Kelln.
URL:http://stjohnnorrona.com/event/nineth-sunday-after-pentecost-worship-service/
LOCATION:St John Lutheran Church\, 319 Mountain Street\, Strasbourg\, Saskatchewan\, S0G 4V0\, Canada
CATEGORIES:Worship Service
ATTACH;FMTTYPE=image/jpeg:http://stjohnnorrona.com/wp-content/uploads/2025/02/Worship-Service.jpg
END:VEVENT
BEGIN:VEVENT
DTSTART;TZID=America/Regina:20250817T093000
DTEND;TZID=America/Regina:20250817T110000
DTSTAMP:20260419T093949
CREATED:20250628T225702Z
LAST-MODIFIED:20250815T143237Z
UID:4507-1755423000-1755428400@stjohnnorrona.com
SUMMARY:Tenth Sunday After Pentecost Worship Service
DESCRIPTION:Please join us for the Tenth Sunday After Pentecost Worship Service at St. John Lutheran Church at 9:30 AM. \nThis is a Communion Service led by Pastor Rick.
URL:http://stjohnnorrona.com/event/tenth-sunday-after-pentecost-worship-service/
LOCATION:St John Lutheran Church\, 319 Mountain Street\, Strasbourg\, Saskatchewan\, S0G 4V0\, Canada
CATEGORIES:Worship Service
ATTACH;FMTTYPE=image/jpeg:http://stjohnnorrona.com/wp-content/uploads/2025/02/Worship-Service.jpg
END:VEVENT
BEGIN:VEVENT
DTSTART;TZID=America/Regina:20250824T093000
DTEND;TZID=America/Regina:20250824T103000
DTSTAMP:20260419T093949
CREATED:20250628T230014Z
LAST-MODIFIED:20250818T194643Z
UID:4509-1756027800-1756031400@stjohnnorrona.com
SUMMARY:Eleventh Sunday After Pentecost Worship Service
DESCRIPTION:Please join us for the Eleventh Sunday After Pentecost Worship Service at St. John Lutheran Church at 9:30 AM. \nThis is a Lay Service led by Jan Schulz.
URL:http://stjohnnorrona.com/event/eleventh-sunday-after-pentecost-worship-service/
LOCATION:St John Lutheran Church\, 319 Mountain Street\, Strasbourg\, Saskatchewan\, S0G 4V0\, Canada
CATEGORIES:Worship Service
ATTACH;FMTTYPE=image/jpeg:http://stjohnnorrona.com/wp-content/uploads/2025/02/Worship-Service.jpg
END:VEVENT
BEGIN:VEVENT
DTSTART;TZID=America/Regina:20250827T103000
DTEND;TZID=America/Regina:20250827T110000
DTSTAMP:20260419T093949
CREATED:20250628T215106Z
LAST-MODIFIED:20250628T215106Z
UID:4482-1756290600-1756292400@stjohnnorrona.com
SUMMARY:Last Mountain Pioneer Home Worship Service
DESCRIPTION:Pastor Rick leading worship Service at the Last Mountain Pioneer Home at 10:30 AM.
URL:http://stjohnnorrona.com/event/last-mountain-pioneer-home-worship-service-8/
LOCATION:Last Mountain Pioneer Home\, 700 Prospect Avenue\, Strasbourg\, Saskatchewan\, S0G4V0\, Canada
CATEGORIES:LMPH Worship Service
ATTACH;FMTTYPE=image/jpeg:http://stjohnnorrona.com/wp-content/uploads/2025/02/Last-Mtn-Pioneer-Home-Image.jpeg
END:VEVENT
BEGIN:VEVENT
DTSTART;TZID=America/Regina:20250831T093000
DTEND;TZID=America/Regina:20250831T103000
DTSTAMP:20260419T093949
CREATED:20250628T230310Z
LAST-MODIFIED:20250829T130858Z
UID:4511-1756632600-1756636200@stjohnnorrona.com
SUMMARY:Twelfth Sunday After Pentecost Worship Service
DESCRIPTION:Please join us for the Twelfth Sunday After Pentecost Worship Service at Norrona Lutheran Church at 9:30 AM. \nThis Service will be led by the Worship Team. \n \n 
URL:http://stjohnnorrona.com/event/twelfth-sunday-after-pentecost-worship-service/
LOCATION:Norrona Lutheran Church\, Norrona\, Church Road\, Bulyea\, SK S0G 4V0\, Saskatchewan\, Canada
CATEGORIES:Worship Service
ATTACH;FMTTYPE=image/jpeg:http://stjohnnorrona.com/wp-content/uploads/2025/02/Worship-Service.jpg
END:VEVENT
END:VCALENDAR