BEGIN:VCALENDAR
VERSION:2.0
PRODID:-//St John - Norrona Lutheran Parish - ECPv6.15.20//NONSGML v1.0//EN
CALSCALE:GREGORIAN
METHOD:PUBLISH
X-WR-CALNAME:St John - Norrona Lutheran Parish
X-ORIGINAL-URL:http://stjohnnorrona.com
X-WR-CALDESC:Events for St John - Norrona Lutheran Parish
REFRESH-INTERVAL;VALUE=DURATION:PT1H
X-Robots-Tag:noindex
X-PUBLISHED-TTL:PT1H
BEGIN:VTIMEZONE
TZID:America/Regina
BEGIN:STANDARD
TZOFFSETFROM:-0600
TZOFFSETTO:-0600
TZNAME:CST
DTSTART:20240101T000000
END:STANDARD
END:VTIMEZONE
BEGIN:VEVENT
DTSTART;TZID=America/Regina:20250126T093000
DTEND;TZID=America/Regina:20250126T103000
DTSTAMP:20260422T200346
CREATED:20250221T163640Z
LAST-MODIFIED:20250221T164143Z
UID:3797-1737883800-1737887400@stjohnnorrona.com
SUMMARY:The Third Sunday after Epiphany Worship Service
DESCRIPTION:Please join us for the Third Sunday after Epiphany Worship Service at St. John Lutheran Church. \nThis service will be led by Pastor Rick. \nThe St. John Annual Meeting will follow the service today.
URL:http://stjohnnorrona.com/event/the-third-sunday-after-epiphany-worship-service/
LOCATION:St John Lutheran Church\, 319 Mountain Street\, Strasbourg\, Saskatchewan\, S0G 4V0\, Canada
CATEGORIES:Worship Service
ATTACH;FMTTYPE=image/jpeg:http://stjohnnorrona.com/wp-content/uploads/2025/02/Worship-Service.jpg
END:VEVENT
END:VCALENDAR