BEGIN:VCALENDAR
VERSION:2.0
PRODID:-//St John - Norrona Lutheran Parish - ECPv6.15.20//NONSGML v1.0//EN
CALSCALE:GREGORIAN
METHOD:PUBLISH
X-WR-CALNAME:St John - Norrona Lutheran Parish
X-ORIGINAL-URL:https://stjohnnorrona.com
X-WR-CALDESC:Events for St John - Norrona Lutheran Parish
REFRESH-INTERVAL;VALUE=DURATION:PT1H
X-Robots-Tag:noindex
X-PUBLISHED-TTL:PT1H
BEGIN:VTIMEZONE
TZID:America/Regina
BEGIN:STANDARD
TZOFFSETFROM:-0600
TZOFFSETTO:-0600
TZNAME:CST
DTSTART:20250101T000000
END:STANDARD
END:VTIMEZONE
BEGIN:VEVENT
DTSTART;TZID=America/Regina:20260426T150000
DTEND;TZID=America/Regina:20260426T163000
DTSTAMP:20260419T160857
CREATED:20260419T143711Z
LAST-MODIFIED:20260419T144022Z
UID:5410-1777215600-1777221000@stjohnnorrona.com
SUMMARY:Spring Concert
DESCRIPTION:Prince of Peace & St. Paul Lutheran Tone Chime Choir are hosting a Spring concert with special musical guests at 3:00 p.m. at the Govan Lutheran Church.\nSupper to follow.\nAll are welcome.
URL:https://stjohnnorrona.com/event/spring-concert/
LOCATION:Govan Lutheran Church\, 522 Elgin St\, Govan\, Saskatchewan\, S0G1Z0\, Canada
CATEGORIES:Concert
ATTACH;FMTTYPE=image/png:https://stjohnnorrona.com/wp-content/uploads/2025/02/Music-Image.png
END:VEVENT
END:VCALENDAR