BEGIN:VCALENDAR
VERSION:2.0
PRODID:-//St John - Norrona Lutheran Parish - ECPv6.15.20//NONSGML v1.0//EN
CALSCALE:GREGORIAN
METHOD:PUBLISH
X-ORIGINAL-URL:https://stjohnnorrona.com
X-WR-CALDESC:Events for St John - Norrona Lutheran Parish
REFRESH-INTERVAL;VALUE=DURATION:PT1H
X-Robots-Tag:noindex
X-PUBLISHED-TTL:PT1H
BEGIN:VTIMEZONE
TZID:America/Regina
BEGIN:STANDARD
TZOFFSETFROM:-0600
TZOFFSETTO:-0600
TZNAME:CST
DTSTART:20250101T000000
END:STANDARD
END:VTIMEZONE
BEGIN:VEVENT
DTSTART;TZID=America/Regina:20260705T093000
DTEND;TZID=America/Regina:20260705T150000
DTSTAMP:20260424T000810
CREATED:20260419T152303Z
LAST-MODIFIED:20260419T224219Z
UID:5419-1783243800-1783263600@stjohnnorrona.com
SUMMARY:St. John’s 120th Anniversary Celebration
DESCRIPTION:St. John’s 120th Anniversary celebration on Sunday\, July 5\, 2026.\nWe are pleased Bishop Ali is able to attend.\nFollowing the service there will be a BBQ lunch at 11:30 am and program at 1:00 pm at the Lions Park.
URL:https://stjohnnorrona.com/event/st-johns-120th-anniversary-celebration/
LOCATION:Strasbourg Lions Park\, 427 Edwards Street\, Strasbourg\, Saskatchewan\, S0G 4V0\, Canada
CATEGORIES:St. John 120th Anniversary
ATTACH;FMTTYPE=image/jpeg:https://stjohnnorrona.com/wp-content/uploads/2026/04/120-Anniversary.jpg
END:VEVENT
END:VCALENDAR